BEGIN:VCALENDAR
VERSION:2.0
PRODID:-//eventon.com NONSGML v1.0//EN
BEGIN:VEVENT
UID:69e73dce6bed9
DTSTAMP:20260421T110518
DTSTART:20230216T230000Z
DTEND:20230217T215000Z
LOCATION:
SUMMARY:Convención numismática Craven
DESCRIPTION: Convención numismática Craven
END:VEVENT
END:VCALENDAR