BEGIN:VCALENDAR
VERSION:2.0
PRODID:-//eventon.com NONSGML v1.0//EN
BEGIN:VEVENT
UID:69e4d19c7911d
DTSTAMP:20260419T145908
DTSTART:20260630T220000Z
DTEND:20260701T215900Z
LOCATION:
SUMMARY:EVENTO NUMISMÁTICO INTERNACIONAL JESÚS VICO | SUBASTA EXTRAORDINARIA
DESCRIPTION: EVENTO NUMISMÁTICO INTERNACIONAL JESÚS VICO | SUBASTA EXTRAORDINARIA
END:VEVENT
END:VCALENDAR